BEGIN:VCALENDAR
VERSION:2.0
PRODID:-//KPM - ECPv6.15.20//NONSGML v1.0//EN
CALSCALE:GREGORIAN
METHOD:PUBLISH
X-WR-CALNAME:KPM
X-ORIGINAL-URL:https://www.kpmcpa.com
X-WR-CALDESC:Events for KPM
REFRESH-INTERVAL;VALUE=DURATION:PT1H
X-Robots-Tag:noindex
X-PUBLISHED-TTL:PT1H
BEGIN:VTIMEZONE
TZID:America/Chicago
BEGIN:DAYLIGHT
TZOFFSETFROM:-0600
TZOFFSETTO:-0500
TZNAME:CDT
DTSTART:20230312T080000
END:DAYLIGHT
BEGIN:STANDARD
TZOFFSETFROM:-0500
TZOFFSETTO:-0600
TZNAME:CST
DTSTART:20231105T070000
END:STANDARD
BEGIN:DAYLIGHT
TZOFFSETFROM:-0600
TZOFFSETTO:-0500
TZNAME:CDT
DTSTART:20240310T080000
END:DAYLIGHT
BEGIN:STANDARD
TZOFFSETFROM:-0500
TZOFFSETTO:-0600
TZNAME:CST
DTSTART:20241103T070000
END:STANDARD
BEGIN:DAYLIGHT
TZOFFSETFROM:-0600
TZOFFSETTO:-0500
TZNAME:CDT
DTSTART:20250309T080000
END:DAYLIGHT
BEGIN:STANDARD
TZOFFSETFROM:-0500
TZOFFSETTO:-0600
TZNAME:CST
DTSTART:20251102T070000
END:STANDARD
END:VTIMEZONE
BEGIN:VTIMEZONE
TZID:UTC
BEGIN:STANDARD
TZOFFSETFROM:+0000
TZOFFSETTO:+0000
TZNAME:UTC
DTSTART:20160101T000000
END:STANDARD
END:VTIMEZONE
BEGIN:VEVENT
DTSTART;TZID=America/Chicago:20240111T114500
DTEND;TZID=America/Chicago:20240111T130000
DTSTAMP:20260424T040812
CREATED:20231218T172703Z
LAST-MODIFIED:20231218T172703Z
UID:27347-1704973500-1704978000@www.kpmcpa.com
SUMMARY:Accounting & Financial Women's Alliance: January Membership Meeting
DESCRIPTION:KPM Shareholder and tax team leader\, Becky Harmon\, will speak with the group and provide a year-end tax update presentation!
URL:https://www.kpmcpa.com/event/accounting-financial-womens-alliance-january-membership-meeting/
LOCATION:425 Downtown\, 425 W. Walnut Street\, Springfield\, MO\, 65806\, United States
GEO:37.2073667;-93.2952464
X-APPLE-STRUCTURED-LOCATION;VALUE=URI;X-ADDRESS=425 Downtown 425 W. Walnut Street Springfield MO 65806 United States;X-APPLE-RADIUS=500;X-TITLE=425 W. Walnut Street:geo:-93.2952464,37.2073667
END:VEVENT
BEGIN:VEVENT
DTSTART;TZID=UTC:20170427T120000
DTEND;TZID=UTC:20170427T130000
DTSTAMP:20260424T040812
CREATED:20170324T212054Z
LAST-MODIFIED:20170324T212054Z
UID:17955-1493294400-1493298000@www.kpmcpa.com
SUMMARY:Ozarks Chapter of the Association of Governmental Accountants: Monthly Luncheon
DESCRIPTION:KPM Manager Jennifer Schatzer\, CPA will be speaking to at the association’s monthly luncheon on grant compliance.
URL:https://www.kpmcpa.com/event/ozarks-chapter-of-the-association-of-governmental-accountants-monthly-luncheon/
LOCATION:425 Downtown\, 425 W. Walnut Street\, Springfield\, MO\, 65806\, United States
GEO:37.2073667;-93.2952464
X-APPLE-STRUCTURED-LOCATION;VALUE=URI;X-ADDRESS=425 Downtown 425 W. Walnut Street Springfield MO 65806 United States;X-APPLE-RADIUS=500;X-TITLE=425 W. Walnut Street:geo:-93.2952464,37.2073667
END:VEVENT
END:VCALENDAR