BEGIN:VCALENDAR
VERSION:2.0
PRODID:-//KPM - ECPv6.15.20//NONSGML v1.0//EN
CALSCALE:GREGORIAN
METHOD:PUBLISH
X-ORIGINAL-URL:https://www.kpmcpa.com
X-WR-CALDESC:Events for KPM
REFRESH-INTERVAL;VALUE=DURATION:PT1H
X-Robots-Tag:noindex
X-PUBLISHED-TTL:PT1H
BEGIN:VTIMEZONE
TZID:America/Chicago
BEGIN:DAYLIGHT
TZOFFSETFROM:-0600
TZOFFSETTO:-0500
TZNAME:CDT
DTSTART:20220313T080000
END:DAYLIGHT
BEGIN:STANDARD
TZOFFSETFROM:-0500
TZOFFSETTO:-0600
TZNAME:CST
DTSTART:20221106T070000
END:STANDARD
BEGIN:DAYLIGHT
TZOFFSETFROM:-0600
TZOFFSETTO:-0500
TZNAME:CDT
DTSTART:20230312T080000
END:DAYLIGHT
BEGIN:STANDARD
TZOFFSETFROM:-0500
TZOFFSETTO:-0600
TZNAME:CST
DTSTART:20231105T070000
END:STANDARD
BEGIN:DAYLIGHT
TZOFFSETFROM:-0600
TZOFFSETTO:-0500
TZNAME:CDT
DTSTART:20240310T080000
END:DAYLIGHT
BEGIN:STANDARD
TZOFFSETFROM:-0500
TZOFFSETTO:-0600
TZNAME:CST
DTSTART:20241103T070000
END:STANDARD
END:VTIMEZONE
BEGIN:VTIMEZONE
TZID:UTC
BEGIN:STANDARD
TZOFFSETFROM:+0000
TZOFFSETTO:+0000
TZNAME:UTC
DTSTART:20180101T000000
END:STANDARD
END:VTIMEZONE
BEGIN:VEVENT
DTSTART;TZID=America/Chicago:20230530T000000
DTEND;TZID=America/Chicago:20230602T000000
DTSTAMP:20260423T093538
CREATED:20230303T192602Z
LAST-MODIFIED:20230303T192602Z
UID:26335-1685404800-1685664000@www.kpmcpa.com
SUMMARY:Discovery Center: Be Kind Do Good Camp
DESCRIPTION:KPM is proud to sponsor the Be Kind Do Good Camp at the Discovery Center! With the Junior Donation Foundation\, campers will participate in a week focused on community impact through volunteering! Campers will tour a variety of local non-profits throughout the week.
URL:https://www.kpmcpa.com/event/discovery-center-be-kind-do-good-camp/
LOCATION:Discovery Center\, 438 E. St. Louis Street\, Springfield\, MO\, 65806\, United States
END:VEVENT
BEGIN:VEVENT
DTSTART;TZID=UTC:20211205T180000
DTEND;TZID=UTC:20211205T210000
DTSTAMP:20260423T093538
CREATED:20211125T043609Z
LAST-MODIFIED:20211125T043609Z
UID:23979-1638727200-1638738000@www.kpmcpa.com
SUMMARY:A Girl Like Me Network: AGLMN Honors Banquet
DESCRIPTION:KPM is happy to sponsor and attend this first annual event\, which celebrates one year in business for the non-profit and honors the children participating in their mentorship\, life skills\, and STEAM opportunities.
URL:https://www.kpmcpa.com/event/a-girl-like-me-network-aglmn-honors-banquet/
LOCATION:Discovery Center\, 438 E. St. Louis Street\, Springfield\, MO\, 65806\, United States
END:VEVENT
BEGIN:VEVENT
DTSTART;TZID=UTC:20190927T180000
DTEND;TZID=UTC:20190927T220000
DTSTAMP:20260423T093538
CREATED:20190723T215441Z
LAST-MODIFIED:20190723T215441Z
UID:20457-1569607200-1569621600@www.kpmcpa.com
SUMMARY:Ozarks Counseling Center: #OCCScavHunt
DESCRIPTION:KPM is happy to again sponsor\, and have a team participate\, in this scavenger hunt fundraiser event\, which takes place throughout Downtown Springfield! This event\, now in its seventh year\, helps raise funds and awareness for the Betty & Bobby Allison Ozarks Counseling Center.
URL:https://www.kpmcpa.com/event/ozarks-counseling-center-occscavhunt-4/
LOCATION:Discovery Center\, 438 E. St. Louis Street\, Springfield\, MO\, 65806\, United States
END:VEVENT
BEGIN:VEVENT
DTSTART;TZID=UTC:20190907T180000
DTEND;TZID=UTC:20190907T220000
DTSTAMP:20260423T093538
CREATED:20190904T004545Z
LAST-MODIFIED:20190904T004545Z
UID:20607-1567879200-1567893600@www.kpmcpa.com
SUMMARY:Discovery Center of Springfield: Night at the Museum
DESCRIPTION:KPM is excited to sponsor this fun event at the Discovery Center of Springfield! This awesome evening fundraiser event allows guests to explore their nearly 60\,000 sq. ft. of exhibit space and hands-on experiments while also enjoying food and drinks from the hottest restaurants and vendors in town!
URL:https://www.kpmcpa.com/event/discovery-center-of-springfield-night-at-the-museum/
LOCATION:Discovery Center\, 438 E. St. Louis Street\, Springfield\, MO\, 65806\, United States
END:VEVENT
BEGIN:VEVENT
DTSTART;TZID=UTC:20190417T113000
DTEND;TZID=UTC:20190417T130000
DTSTAMP:20260423T093538
CREATED:20190318T195549Z
LAST-MODIFIED:20190318T195549Z
UID:20083-1555500600-1555506000@www.kpmcpa.com
SUMMARY:Downtown Springfield Association: Developer's Roundtable
DESCRIPTION:As a Downtown Springfield Association member\, KPM looks forward to attending this annual event\, which brings together developers\, appraisers\, banks\, and officials from the City of Springfield and Springfield Area Chamber of Commerce. The presentation will discuss opportunity zones and an update on development in downtown Springfield.
URL:https://www.kpmcpa.com/event/downtown-springfield-association-developers-roundtable/
LOCATION:Discovery Center\, 438 E. St. Louis Street\, Springfield\, MO\, 65806\, United States
END:VEVENT
END:VCALENDAR