BEGIN:VCALENDAR
VERSION:2.0
PRODID:-//KPM - ECPv6.15.20//NONSGML v1.0//EN
CALSCALE:GREGORIAN
METHOD:PUBLISH
X-ORIGINAL-URL:https://www.kpmcpa.com
X-WR-CALDESC:Events for KPM
REFRESH-INTERVAL;VALUE=DURATION:PT1H
X-Robots-Tag:noindex
X-PUBLISHED-TTL:PT1H
BEGIN:VTIMEZONE
TZID:America/Chicago
BEGIN:DAYLIGHT
TZOFFSETFROM:-0600
TZOFFSETTO:-0500
TZNAME:CDT
DTSTART:20200308T080000
END:DAYLIGHT
BEGIN:STANDARD
TZOFFSETFROM:-0500
TZOFFSETTO:-0600
TZNAME:CST
DTSTART:20201101T070000
END:STANDARD
BEGIN:DAYLIGHT
TZOFFSETFROM:-0600
TZOFFSETTO:-0500
TZNAME:CDT
DTSTART:20210314T080000
END:DAYLIGHT
BEGIN:STANDARD
TZOFFSETFROM:-0500
TZOFFSETTO:-0600
TZNAME:CST
DTSTART:20211107T070000
END:STANDARD
BEGIN:DAYLIGHT
TZOFFSETFROM:-0600
TZOFFSETTO:-0500
TZNAME:CDT
DTSTART:20220313T080000
END:DAYLIGHT
BEGIN:STANDARD
TZOFFSETFROM:-0500
TZOFFSETTO:-0600
TZNAME:CST
DTSTART:20221106T070000
END:STANDARD
BEGIN:DAYLIGHT
TZOFFSETFROM:-0600
TZOFFSETTO:-0500
TZNAME:CDT
DTSTART:20230312T080000
END:DAYLIGHT
BEGIN:STANDARD
TZOFFSETFROM:-0500
TZOFFSETTO:-0600
TZNAME:CST
DTSTART:20231105T070000
END:STANDARD
BEGIN:DAYLIGHT
TZOFFSETFROM:-0600
TZOFFSETTO:-0500
TZNAME:CDT
DTSTART:20240310T080000
END:DAYLIGHT
BEGIN:STANDARD
TZOFFSETFROM:-0500
TZOFFSETTO:-0600
TZNAME:CST
DTSTART:20241103T070000
END:STANDARD
BEGIN:DAYLIGHT
TZOFFSETFROM:-0600
TZOFFSETTO:-0500
TZNAME:CDT
DTSTART:20250309T080000
END:DAYLIGHT
BEGIN:STANDARD
TZOFFSETFROM:-0500
TZOFFSETTO:-0600
TZNAME:CST
DTSTART:20251102T070000
END:STANDARD
END:VTIMEZONE
BEGIN:VTIMEZONE
TZID:UTC
BEGIN:STANDARD
TZOFFSETFROM:+0000
TZOFFSETTO:+0000
TZNAME:UTC
DTSTART:20170101T000000
END:STANDARD
END:VTIMEZONE
BEGIN:VEVENT
DTSTART;TZID=America/Chicago:20240921T183000
DTEND;TZID=America/Chicago:20240921T213000
DTSTAMP:20260422T041026
CREATED:20240625T213702Z
LAST-MODIFIED:20240625T213702Z
UID:27875-1726943400-1726954200@www.kpmcpa.com
SUMMARY:Catholic Charities of Southern Missouri: LifeHouse Gala
DESCRIPTION:KPM is happy to again sponsor Catholic Charities of Southern Missouri’s LifeHouse Gala\, formally known as Dinner for Life\, which features dinner\, auctions\, and entertainment\, and helps raise funds and awareness for their LifeHouse Crisis Maternity Home.
URL:https://www.kpmcpa.com/event/catholic-charities-of-southern-missouri-lifehouse-gala/
LOCATION:DoubleTree Convention Center\, 2431 N. Glenstone Avenue\, Springifeld\, MO\, 65803\, United States
END:VEVENT
BEGIN:VEVENT
DTSTART;TZID=America/Chicago:20220506T173000
DTEND;TZID=America/Chicago:20220506T213000
DTSTAMP:20260422T041026
CREATED:20220314T150506Z
LAST-MODIFIED:20220314T150506Z
UID:24993-1651858200-1651872600@www.kpmcpa.com
SUMMARY:Nixa Education Foundation: The Gala
DESCRIPTION:KPM is happy to sponsor this event\, which recognizes the Nixa School District’s employees’ achievements and retirements. The formal event also includes an awards ceremony honoring the Teacher and Staff of the Year and various community awards.
URL:https://www.kpmcpa.com/event/nixa-education-foundation-the-gala/
LOCATION:DoubleTree Convention Center\, 2431 N. Glenstone Avenue\, Springifeld\, MO\, 65803\, United States
END:VEVENT
BEGIN:VEVENT
DTSTART;TZID=America/Chicago:20211007T073000
DTEND;TZID=America/Chicago:20211007T083000
DTSTAMP:20260422T041026
CREATED:20210105T215009Z
LAST-MODIFIED:20210105T215009Z
UID:22021-1633591800-1633595400@www.kpmcpa.com
SUMMARY:Springfield Area Chamber of Commerce: Good Morning Springfield
DESCRIPTION:KPM is happy to sponsor the Chamber’s monthly networking breakfast and annual State of the County presentation featuring updates from the City of Springfield\, Greene County\, Springfield Public Schools\, and the Chamber.
URL:https://www.kpmcpa.com/event/springfield-area-chamber-of-commerce-good-morning-springfield-46-2021-10-07/
LOCATION:DoubleTree Convention Center\, 2431 N. Glenstone Avenue\, Springifeld\, MO\, 65803\, United States
END:VEVENT
BEGIN:VEVENT
DTSTART;TZID=UTC:20211005T113000
DTEND;TZID=UTC:20211005T140000
DTSTAMP:20260422T041026
CREATED:20211027T021150Z
LAST-MODIFIED:20211027T021150Z
UID:23851-1633433400-1633442400@www.kpmcpa.com
SUMMARY:Springfield Business Journal: Most Influential Women
DESCRIPTION:KPM looks forward to attending this event to celebrate our client honorees and all of the women being honored for their business\, civic\, and philanthropic contributions to the community.
URL:https://www.kpmcpa.com/event/springfield-business-journal-most-influential-women-4/
LOCATION:DoubleTree Convention Center\, 2431 N. Glenstone Avenue\, Springifeld\, MO\, 65803\, United States
END:VEVENT
BEGIN:VEVENT
DTSTART;TZID=UTC:20181205T113000
DTEND;TZID=UTC:20181205T130000
DTSTAMP:20260422T041026
CREATED:20171218T221529Z
LAST-MODIFIED:20171218T221529Z
UID:18696-1544009400-1544014800@www.kpmcpa.com
SUMMARY:Springfield Business Development Corporation: Manufacturing Outlook Luncheon
DESCRIPTION:As a long-time SBDC investor\, KPM is proud to sponsor and attend this event\, which will highlight innovation in manufacturing at the local level.
URL:https://www.kpmcpa.com/event/springfield-business-development-corporation-manufacturing-outlook-luncheon/
LOCATION:DoubleTree Convention Center\, 2431 N. Glenstone Avenue\, Springifeld\, MO\, 65803\, United States
END:VEVENT
BEGIN:VEVENT
DTSTART;TZID=UTC:20180914T113000
DTEND;TZID=UTC:20180914T130000
DTSTAMP:20260422T041026
CREATED:20180716T215612Z
LAST-MODIFIED:20180716T215612Z
UID:19382-1536924600-1536930000@www.kpmcpa.com
SUMMARY:Springfield Business Journal: Trusted Advisers
DESCRIPTION:KPM Senior Accountant Michelle Vespa will be recognized at this event as a Springfield Business Journal Trusted Adviser Up-and-Comer honoree! Trusted Adviser honorees include accountants\, bankers\, insurance agents\, lawyers\, and wealth managers\, and the Up-and-Comer category recognizes professionals who have less than five years of experience and are on their way to Trusted Adviser status!
URL:https://www.kpmcpa.com/event/springfield-business-journal-trusted-advisers-2/
LOCATION:DoubleTree Convention Center\, 2431 N. Glenstone Avenue\, Springifeld\, MO\, 65803\, United States
END:VEVENT
END:VCALENDAR