BEGIN:VCALENDAR
VERSION:2.0
PRODID:-//KPM - ECPv6.15.20//NONSGML v1.0//EN
CALSCALE:GREGORIAN
METHOD:PUBLISH
X-ORIGINAL-URL:https://www.kpmcpa.com
X-WR-CALDESC:Events for KPM
REFRESH-INTERVAL;VALUE=DURATION:PT1H
X-Robots-Tag:noindex
X-PUBLISHED-TTL:PT1H
BEGIN:VTIMEZONE
TZID:America/Chicago
BEGIN:DAYLIGHT
TZOFFSETFROM:-0600
TZOFFSETTO:-0500
TZNAME:CDT
DTSTART:20200308T080000
END:DAYLIGHT
BEGIN:STANDARD
TZOFFSETFROM:-0500
TZOFFSETTO:-0600
TZNAME:CST
DTSTART:20201101T070000
END:STANDARD
BEGIN:DAYLIGHT
TZOFFSETFROM:-0600
TZOFFSETTO:-0500
TZNAME:CDT
DTSTART:20210314T080000
END:DAYLIGHT
BEGIN:STANDARD
TZOFFSETFROM:-0500
TZOFFSETTO:-0600
TZNAME:CST
DTSTART:20211107T070000
END:STANDARD
BEGIN:DAYLIGHT
TZOFFSETFROM:-0600
TZOFFSETTO:-0500
TZNAME:CDT
DTSTART:20220313T080000
END:DAYLIGHT
BEGIN:STANDARD
TZOFFSETFROM:-0500
TZOFFSETTO:-0600
TZNAME:CST
DTSTART:20221106T070000
END:STANDARD
BEGIN:DAYLIGHT
TZOFFSETFROM:-0600
TZOFFSETTO:-0500
TZNAME:CDT
DTSTART:20230312T080000
END:DAYLIGHT
BEGIN:STANDARD
TZOFFSETFROM:-0500
TZOFFSETTO:-0600
TZNAME:CST
DTSTART:20231105T070000
END:STANDARD
BEGIN:DAYLIGHT
TZOFFSETFROM:-0600
TZOFFSETTO:-0500
TZNAME:CDT
DTSTART:20240310T080000
END:DAYLIGHT
BEGIN:STANDARD
TZOFFSETFROM:-0500
TZOFFSETTO:-0600
TZNAME:CST
DTSTART:20241103T070000
END:STANDARD
BEGIN:DAYLIGHT
TZOFFSETFROM:-0600
TZOFFSETTO:-0500
TZNAME:CDT
DTSTART:20250309T080000
END:DAYLIGHT
BEGIN:STANDARD
TZOFFSETFROM:-0500
TZOFFSETTO:-0600
TZNAME:CST
DTSTART:20251102T070000
END:STANDARD
BEGIN:DAYLIGHT
TZOFFSETFROM:-0600
TZOFFSETTO:-0500
TZNAME:CDT
DTSTART:20260308T080000
END:DAYLIGHT
BEGIN:STANDARD
TZOFFSETFROM:-0500
TZOFFSETTO:-0600
TZNAME:CST
DTSTART:20261101T070000
END:STANDARD
END:VTIMEZONE
BEGIN:VEVENT
DTSTART;TZID=America/Chicago:20250508T180000
DTEND;TZID=America/Chicago:20250508T210000
DTSTAMP:20260423T220851
CREATED:20250312T160209Z
LAST-MODIFIED:20250312T160209Z
UID:28534-1746727200-1746738000@www.kpmcpa.com
SUMMARY:Visit Springfield: Toast to Tourism
DESCRIPTION:KPM is excited to attend Visit Springfield’s Toast to Tourism. This annual event is all about celebrating the people and places that make Springfield a must-visit destination and will be a fun-filled night of cheers\, great company\, and a well-deserved toast to Springfield tourism!
URL:https://www.kpmcpa.com/event/visit-springfield-toast-to-tourism/
LOCATION:Gillioz Theatre\, 325 Park Central East\, Springfield\, MO\, 65806\, United States
END:VEVENT
BEGIN:VEVENT
DTSTART;TZID=America/Chicago:20210611T120000
DTEND;TZID=America/Chicago:20210611T170000
DTSTAMP:20260423T220851
CREATED:20210525T142207Z
LAST-MODIFIED:20210525T142207Z
UID:22352-1623412800-1623430800@www.kpmcpa.com
SUMMARY:The Network: SGForum
DESCRIPTION:As a sponsor of The Network for 2021\, KPM’s young professionals look forward to attending this event\, which provides an engaging opportunity for community\, personal\, and professional development through this summit-style presentation.
URL:https://www.kpmcpa.com/event/the-network-sgforum/
LOCATION:Gillioz Theatre\, 325 Park Central East\, Springfield\, MO\, 65806\, United States
END:VEVENT
END:VCALENDAR