BEGIN:VCALENDAR
VERSION:2.0
PRODID:-//KPM - ECPv6.15.20//NONSGML v1.0//EN
CALSCALE:GREGORIAN
METHOD:PUBLISH
X-ORIGINAL-URL:https://www.kpmcpa.com
X-WR-CALDESC:Events for KPM
REFRESH-INTERVAL;VALUE=DURATION:PT1H
X-Robots-Tag:noindex
X-PUBLISHED-TTL:PT1H
BEGIN:VTIMEZONE
TZID:America/Chicago
BEGIN:DAYLIGHT
TZOFFSETFROM:-0600
TZOFFSETTO:-0500
TZNAME:CDT
DTSTART:20250309T080000
END:DAYLIGHT
BEGIN:STANDARD
TZOFFSETFROM:-0500
TZOFFSETTO:-0600
TZNAME:CST
DTSTART:20251102T070000
END:STANDARD
BEGIN:DAYLIGHT
TZOFFSETFROM:-0600
TZOFFSETTO:-0500
TZNAME:CDT
DTSTART:20260308T080000
END:DAYLIGHT
BEGIN:STANDARD
TZOFFSETFROM:-0500
TZOFFSETTO:-0600
TZNAME:CST
DTSTART:20261101T070000
END:STANDARD
BEGIN:DAYLIGHT
TZOFFSETFROM:-0600
TZOFFSETTO:-0500
TZNAME:CDT
DTSTART:20270314T080000
END:DAYLIGHT
BEGIN:STANDARD
TZOFFSETFROM:-0500
TZOFFSETTO:-0600
TZNAME:CST
DTSTART:20271107T070000
END:STANDARD
END:VTIMEZONE
BEGIN:VEVENT
DTSTART;TZID=America/Chicago:20260327T173000
DTEND;TZID=America/Chicago:20260327T203000
DTSTAMP:20260422T072932
CREATED:20260210T185604Z
LAST-MODIFIED:20260210T185604Z
UID:29506-1774632600-1774643400@www.kpmcpa.com
SUMMARY:Skaggs Foundation: Skaggs Derby Social
DESCRIPTION:KPM is excited to sponsor the 2nd Annual Skaggs Derby Social. This evening will be packed with all things southern style – live music\, auctions and raffles\, and of course\, a derby race. The evening will be in support of Skaggs Foundation’s commitment to improving the health and wellness of residents in Stone and Taney counties.
URL:https://www.kpmcpa.com/event/skaggs-foundation-skaggs-derby-social/
LOCATION:Graystone Valley\, 875 US-65\, Walnut Shade\, MO\, 65771
END:VEVENT
END:VCALENDAR